BEGIN:VCALENDAR
VERSION:2.0
PRODID:-//Teléfono de la esperanza Aragón - ECPv5.16.4//NONSGML v1.0//EN
CALSCALE:GREGORIAN
METHOD:PUBLISH
X-WR-CALNAME:Teléfono de la esperanza Aragón
X-ORIGINAL-URL:https://telefonodelaesperanzadearagon.es
X-WR-CALDESC:Eventos para Teléfono de la esperanza Aragón
REFRESH-INTERVAL;VALUE=DURATION:PT1H
X-Robots-Tag:noindex
X-PUBLISHED-TTL:PT1H
BEGIN:VTIMEZONE
TZID:Europe/Paris
BEGIN:DAYLIGHT
TZOFFSETFROM:+0100
TZOFFSETTO:+0200
TZNAME:CEST
DTSTART:20200329T010000
END:DAYLIGHT
BEGIN:STANDARD
TZOFFSETFROM:+0200
TZOFFSETTO:+0100
TZNAME:CET
DTSTART:20201025T010000
END:STANDARD
END:VTIMEZONE
BEGIN:VEVENT
DTSTART;TZID=Europe/Paris:20200430T180000
DTEND;TZID=Europe/Paris:20200528T193000
DTSTAMP:20260425T021525
CREATED:20200428T095423Z
LAST-MODIFIED:20200428T095423Z
UID:289-1588269600-1590694200@telefonodelaesperanzadearagon.es
SUMMARY:CURSO MEJORA TU AUTOESTIMA
DESCRIPTION:Dirigido a: \nAquellas personas que tienen la necesidad de mejorar su autoconcepto y su sentimiento de valía. \n  \nContenidos: \n– Qué es y qué no es la Autoestima. \n– Cómo se crea y se destruye la Autoestima. \n– Por qué es importante. Elementos de mi Autoestima. \n– Cuáles son las características de una persona con Autoestima elevada. \n– De qué depende la Autoestima. \n– Y sobre todo\, cómo podemos desarrollarla en nosotros mismos y en los demás \n  \nHorarios: \nJueves de 18:00 a 19:30 horas. \n  \nFechas: \nFebrero: 27 / Marzo: 12\, 19\, 26 / Abril: 02\, 16\, 23\, 30 / Mayo: 07\, 14\, 21\, 28. \n  \nImparte:  \nCarlos Pérez Ara (psicólogo) \n  \nDonativo: \n60 € / 30 € (socios con más de dos años de antigüedad). \n  \nInscripciones: \no bien mediante los teléfonos 976 232 828 / 682 351 483 \no Mail:zaragoza@telefonodelaesperanza.org
URL:https://telefonodelaesperanzadearagon.es/event/curso-mejora-tu-autoestima/
LOCATION:SEDE TELÉFONO ESPERANZA ARAGÓN\, LAGASCA\, 13 - 1º\, ZARAGOZA\, ZARAGOZA\, 50006\, España
END:VEVENT
END:VCALENDAR