BEGIN:VCALENDAR
VERSION:2.0
PRODID:-//Teléfono de la esperanza Aragón - ECPv5.16.4//NONSGML v1.0//EN
CALSCALE:GREGORIAN
METHOD:PUBLISH
X-ORIGINAL-URL:https://telefonodelaesperanzadearagon.es
X-WR-CALDESC:Eventos para Teléfono de la esperanza Aragón
REFRESH-INTERVAL;VALUE=DURATION:PT1H
X-Robots-Tag:noindex
X-PUBLISHED-TTL:PT1H
BEGIN:VTIMEZONE
TZID:Europe/Paris
BEGIN:DAYLIGHT
TZOFFSETFROM:+0100
TZOFFSETTO:+0200
TZNAME:CEST
DTSTART:20200329T010000
END:DAYLIGHT
BEGIN:STANDARD
TZOFFSETFROM:+0200
TZOFFSETTO:+0100
TZNAME:CET
DTSTART:20201025T010000
END:STANDARD
END:VTIMEZONE
BEGIN:VEVENT
DTSTART;VALUE=DATE:20200609
DTEND;VALUE=DATE:20200610
DTSTAMP:20260424T233614
CREATED:20200609T110309Z
LAST-MODIFIED:20200609T111608Z
UID:326-1591660800-1591747199@telefonodelaesperanzadearagon.es
SUMMARY:Curso Piensa bien para sentirte mejor
DESCRIPTION:TALLER: “PIENSA BIEN PARA SENTIRTE MEJOR” \n  \nDirigido a quien desee: \nCon este curso intentamos aprender a tener unos sentimientos y comportamientos más sanos\, mediante el desarrollo de un sistema de creencias sobre uno mismo\, los demás y la vida\, claramente razonado e interiorizado\, que nos facilite vivir plenamente y ser cada día más felices\, por lo tanto este curso va dirigido a todas aquellas personas que desee: \n  \nObjetivos \nTomar conciencia del funcionamiento de nuestra manera de pensar y de sentir.\nDescubrir como generamos nuestro propio sufrimiento e insatisfacción\, mediante una forma de pensar errónea.\nAumentar nuestro equilibrio y autocontrol emocional.\nConocer unas técnicas de ayuda útiles para fomentar nuestro autodiálogo y mejorar nuestras relaciones interpersonales.\nHorario: Jueves de 19:30 a 21:00 horas. \nFechas:  Febrero: 27 / Marzo: 12\, 19\, 26 / Abril: 02\, 16\, 23\, 30 / Mayo: 07\, 14\, 21\, 28. \n  \nLugar: Sede Teléfono de la Esperanza. \nLagasca\, 13 – 1º \n50005 Zaragoza \n  \nDonativo: \n60 €  (30 € socios de más de dos años de antigüedad) \n  \nForma de inscripción mediante: \nMail: zaragoza@telefonodelaesperanza.org\nTeléfonos: 976 232 828 / 682 351 483 (lunes a viernes de 11 a 14 horas)\nSi lo deseas puedes realizar la inscripción en esta página. en el apartado COMENTARIOS poned la palabra «PIENSA»\nOs esperamos
URL:https://telefonodelaesperanzadearagon.es/event/curso-piensa-bien-para-sentirte-mejor/
END:VEVENT
END:VCALENDAR