BEGIN:VCALENDAR
VERSION:2.0
PRODID:-//Teléfono de la esperanza Aragón - ECPv5.16.4//NONSGML v1.0//EN
CALSCALE:GREGORIAN
METHOD:PUBLISH
X-WR-CALNAME:Teléfono de la esperanza Aragón
X-ORIGINAL-URL:https://telefonodelaesperanzadearagon.es
X-WR-CALDESC:Eventos para Teléfono de la esperanza Aragón
REFRESH-INTERVAL;VALUE=DURATION:PT1H
X-Robots-Tag:noindex
X-PUBLISHED-TTL:PT1H
BEGIN:VTIMEZONE
TZID:Europe/Paris
BEGIN:DAYLIGHT
TZOFFSETFROM:+0100
TZOFFSETTO:+0200
TZNAME:CEST
DTSTART:20200329T010000
END:DAYLIGHT
BEGIN:STANDARD
TZOFFSETFROM:+0200
TZOFFSETTO:+0100
TZNAME:CET
DTSTART:20201025T010000
END:STANDARD
END:VTIMEZONE
BEGIN:VEVENT
DTSTART;TZID=Europe/Paris:20201014T080000
DTEND;TZID=Europe/Paris:20201014T170000
DTSTAMP:20260424T200936
CREATED:20201014T090757Z
LAST-MODIFIED:20201014T090757Z
UID:371-1602662400-1602694800@telefonodelaesperanzadearagon.es
SUMMARY:Lotería de Navidad a beneficio del Teléfono de la Esperanza de Aragón
DESCRIPTION:
URL:https://telefonodelaesperanzadearagon.es/event/loteria-de-navidad-a-beneficio-del-telefono-de-la-esperanza-de-aragon/
LOCATION:ZARAGOZA
END:VEVENT
END:VCALENDAR